BEGIN:VCALENDAR
VERSION:2.0
PRODID:-//Library Market//iCal Export//EN
BEGIN:VEVENT
SUMMARY:Family Movie- &quot;The Land Before Time&quot;
UID:7080
DTSTAMP:20260420T080700Z
DTSTART:20260811T190000Z
DTEND:20260811T210000Z
LOCATION:700 South Otsego Avenue, Gaylord, MI 49735, United States
ROOM: Upstairs Meeting Room
DESCRIPTION:
URL:https://www.otsego.lib.mi.us/event/family-movie-land-time-7080
END:VEVENT
END:VCALENDAR
