BEGIN:VCALENDAR
VERSION:2.0
PRODID:-//Library Market//iCal Export//EN
BEGIN:VEVENT
SUMMARY:Family Movie- &quot;We&#039;re Back&quot;
UID:7079
DTSTAMP:20260420T080700Z
DTSTART:20260714T190000Z
DTEND:20260714T210000Z
LOCATION:700 South Otsego Avenue, Gaylord, MI 49735, United States
ROOM: Upstairs Meeting Room
DESCRIPTION:
URL:https://www.otsego.lib.mi.us/event/family-movie-were-back-7079
END:VEVENT
END:VCALENDAR
