BEGIN:VCALENDAR
VERSION:2.0
PRODID:-//Library Market//iCal Export//EN
BEGIN:VEVENT
SUMMARY:Summer Read - Genesis Reptile Rescue *Registration Required*
UID:7060
DTSTAMP:20260420T080700Z
DTSTART:20260723T170000Z
DTEND:20260723T183000Z
LOCATION:700 South Otsego Avenue, Gaylord, MI 49735, United States
ROOM: Upstairs Meeting Room
DESCRIPTION:
URL:https://www.otsego.lib.mi.us/event/summer-read-genesis-reptile-rescue-
 registration-required-7060
END:VEVENT
END:VCALENDAR
